BEGIN:VCALENDAR
VERSION:2.0
PRODID:-//Naturrituale, Kräuterkunde, Schamanismus Otzberg - ECPv6.15.20//NONSGML v1.0//EN
CALSCALE:GREGORIAN
METHOD:PUBLISH
X-ORIGINAL-URL:https://baerbel-lehmer.de
X-WR-CALDESC:Veranstaltungen für Naturrituale, Kräuterkunde, Schamanismus Otzberg
REFRESH-INTERVAL;VALUE=DURATION:PT1H
X-Robots-Tag:noindex
X-PUBLISHED-TTL:PT1H
BEGIN:VTIMEZONE
TZID:Europe/Berlin
BEGIN:DAYLIGHT
TZOFFSETFROM:+0100
TZOFFSETTO:+0200
TZNAME:CEST
DTSTART:20190331T010000
END:DAYLIGHT
BEGIN:STANDARD
TZOFFSETFROM:+0200
TZOFFSETTO:+0100
TZNAME:CET
DTSTART:20191027T010000
END:STANDARD
BEGIN:DAYLIGHT
TZOFFSETFROM:+0100
TZOFFSETTO:+0200
TZNAME:CEST
DTSTART:20200329T010000
END:DAYLIGHT
BEGIN:STANDARD
TZOFFSETFROM:+0200
TZOFFSETTO:+0100
TZNAME:CET
DTSTART:20201025T010000
END:STANDARD
BEGIN:DAYLIGHT
TZOFFSETFROM:+0100
TZOFFSETTO:+0200
TZNAME:CEST
DTSTART:20210328T010000
END:DAYLIGHT
BEGIN:STANDARD
TZOFFSETFROM:+0200
TZOFFSETTO:+0100
TZNAME:CET
DTSTART:20211031T010000
END:STANDARD
END:VTIMEZONE
BEGIN:VEVENT
DTSTART;VALUE=DATE:20200611
DTEND;VALUE=DATE:20200614
DTSTAMP:20260424T131532
CREATED:20180302T144742Z
LAST-MODIFIED:20200228T124055Z
UID:248-1591833600-1592092799@baerbel-lehmer.de
SUMMARY:Ab in die Wildnis
DESCRIPTION:Angebot für Jugendliche ab 11 Jahren mit Übernachtung\nAls Trapper durch den Wald pirschen\, unter freiem Himmel  oder in Zelten übernachten\, Feuer  entzünden und Essen am Lagerfeuer kochen – davon träumen viele Jugendliche (vielleicht auch Erwachsene). Die Freizeit richtet sich an Jugendliche  und Frauen ab 11 Jahren\, die Spaß am Abenteuer in der Wildnis haben. Natürlich werde ich auch in dieser Freizeit den Teilnehmern die Steine\, die Tiere und den Wald nahe bringen. Wir werden viele Spiele ausprobieren und neu erfinden. Vor allem werden wir uns an einem Lagerplatz versorgen und schauen\, dass es uns in der Wildnis am Rande des Odenwalds gut geht. Es ist eine Art Survival-Training: Mit Messer\, Rucksack und Streichhölzern drei Tage durch den Odenwald ziehen. Unter freiem Himmel schlafen. Kochen was die Waldküche bietet. \n135\,- €
URL:https://baerbel-lehmer.de/event/ab-in-die-wildnis/
CATEGORIES:Ferienfreizeiten
END:VEVENT
END:VCALENDAR