BEGIN:VCALENDAR
VERSION:2.0
PRODID:-//Naturrituale, Kräuterkunde, Schamanismus Otzberg - ECPv6.15.20//NONSGML v1.0//EN
CALSCALE:GREGORIAN
METHOD:PUBLISH
X-ORIGINAL-URL:https://baerbel-lehmer.de
X-WR-CALDESC:Veranstaltungen für Naturrituale, Kräuterkunde, Schamanismus Otzberg
REFRESH-INTERVAL;VALUE=DURATION:PT1H
X-Robots-Tag:noindex
X-PUBLISHED-TTL:PT1H
BEGIN:VTIMEZONE
TZID:Europe/Berlin
BEGIN:DAYLIGHT
TZOFFSETFROM:+0100
TZOFFSETTO:+0200
TZNAME:CEST
DTSTART:20210328T010000
END:DAYLIGHT
BEGIN:STANDARD
TZOFFSETFROM:+0200
TZOFFSETTO:+0100
TZNAME:CET
DTSTART:20211031T010000
END:STANDARD
BEGIN:DAYLIGHT
TZOFFSETFROM:+0100
TZOFFSETTO:+0200
TZNAME:CEST
DTSTART:20220327T010000
END:DAYLIGHT
BEGIN:STANDARD
TZOFFSETFROM:+0200
TZOFFSETTO:+0100
TZNAME:CET
DTSTART:20221030T010000
END:STANDARD
BEGIN:DAYLIGHT
TZOFFSETFROM:+0100
TZOFFSETTO:+0200
TZNAME:CEST
DTSTART:20230326T010000
END:DAYLIGHT
BEGIN:STANDARD
TZOFFSETFROM:+0200
TZOFFSETTO:+0100
TZNAME:CET
DTSTART:20231029T010000
END:STANDARD
END:VTIMEZONE
BEGIN:VEVENT
DTSTART;TZID=Europe/Berlin:20220815T170000
DTEND;TZID=Europe/Berlin:20220815T193000
DTSTAMP:20260422T204752
CREATED:20200809T130222Z
LAST-MODIFIED:20220707T134047Z
UID:306-1660582800-1660591800@baerbel-lehmer.de
SUMMARY:Werzboamstrauß Kräuterführung
DESCRIPTION:Kräuterführung\nAuf dieser Führung\, die alljährlich vom Dorf & Kulturverein Habitzheim angeboten wird\, zeige ich\, welche Kräuter in den traditionellen Kräuterstrauß gehören. Ich berichte\, wie Kräuter uns unterstützen können\, welche Stoffe sie zum Teil beinhalten und welche Heilwirkungen ihnen zugesprochen werden. Am 15. August zu „Mariä Himmelfahrt“  oder am 8. Vollmond zu „Lugnasad\, dem Schnitterfest“ werden traditionell Kräutersträuße gesammelt. Was steckt hinter diesem Brauchtum? Welche Kräuter gehören  in den  „Werzboamstrauß“ ? Wer ist die „Wiesenkönigin“? \nWas der Inhalt der Feste war und welche Mythen und Wirkungen sich hinter den gesammelten Kräutern verbergen\, erklärt ich auf dieser Führung. Welche Kräuter benötigt man für die heilenden Öle aus Großmutters Schatzkiste? Gefeiert wird auch die neue Ernte\, begonnen mit der Kornernte. Damit beginnt auch die Rückschau auf das Jahr. Die erste Bilanz kann gezogen werden: Welche Saat ist aufgegangen\, was lässt man besser als Dünger für das nächste Jahr auf dem Feld? Auch wenn dies meist die wärmste Zeit des Jahres ist\, erinnern wir uns\, dass die Tage schon wieder kürzer werden und der Herbst sich nähert. \nTreffpunkt: Parkplatz „Fritz kocht“ Habitzheim; Spachbrücker Straße 107 am 15.08.2022\, um 17:00 Uhr \n\n\n  \n\n\n\nIch möchte einen Termin bzw. mich für eine Veranstaltung anmelden:\n\nIhr Name*\n \n\n \nIhre E-Mail-Adresse*\n \n\n \nWie ich Sie gefunden habe*:\nSuchmaschineTV-SendungZeitungsartikel/-anzeigeEmpfehlungweiß ich nicht mehr\n \nIhre Nachricht\n \n\n \n Die Datenschutzerklärung habe ich zur Kenntnis genommen. Mir ist bewusst\, dass meine Angaben und Daten zur Beantwortung meiner Anfrage elektronisch erhoben und verarbeitet werden. Ich kann der Nutzung meiner Daten für Zwecke der Direktwerbung jederzeit widersprechen. Die gesetzlichen Aufbewahrungsfristen bleiben unberührt.\nMit dem Absenden des Formulars bestätige ich\, dass ich diesen Hinweis zur Kenntnis genommen habe.\n\n\n ×
URL:https://baerbel-lehmer.de/event/werzboamstrauss/
CATEGORIES:Kräuterwanderung
ATTACH;FMTTYPE=image/jpeg:https://baerbel-lehmer.de/wp-content/uploads/2022/07/69690146_s.jpg
END:VEVENT
END:VCALENDAR